BEGIN:VCALENDAR
VERSION:2.0
PRODID:-//InvisionCommunity Events 4.7.23//EN
METHOD:PUBLISH
CALSCALE:GREGORIAN
REFRESH-INTERVAL:PT15M
X-PUBLISHED-TTL:PT15M
X-WR-CALNAME:At My TV
NAME:At My TV
BEGIN:VTIMEZONE
TZID:Europe/London
TZURL:http://tzurl.org/zoneinfo/Europe/London
X-LIC-LOCATION:Europe/London
BEGIN:DAYLIGHT
TZOFFSETFROM:+0000
TZOFFSETTO:+0100
TZNAME:BST
DTSTART:20150329T020000Z
RRULE:FREQ=YEARLY;BYMONTH=3;BYDAY=-1SU
END:DAYLIGHT
BEGIN:STANDARD
TZOFFSETFROM:+0100
TZOFFSETTO:+0000
TZNAME:GMT
DTSTART:20151025T020000Z
RRULE:FREQ=YEARLY;BYMONTH=10;BYDAY=-1SU
END:STANDARD
END:VTIMEZONE
BEGIN:VEVENT
SUMMARY:iZombie 2x3 - Real Dead Housewife of Seattle
DTSTAMP:20151007T100509Z
SEQUENCE:0
UID:41014-2-841ebed20eb198c4569419e99b7bf40a@themidnightzone.com
ORGANIZER;CN="Midnight":midnight@themidnightzone.com
DESCRIPTION:Liv eats the brains of a recently murdered trophy wife who w
	aspushed to her death from the balcony of her stunningarchitectural home i
	n the hills by a hired hit man. A PinotGrigio-sipping\, suddenly fashion o
	bsessed Liv and DetectiveBabineaux begin questioning suspects in their sea
	rch for theoriginal brains behind this murder. Meanwhile\, Liv and Raviare
	 surprised to learn that Peyton has returned to Seattle.
DTSTART:20151021T010000Z
DTEND:20151021T020000Z
END:VEVENT
END:VCALENDAR
