BEGIN:VCALENDAR
VERSION:2.0
PRODID:-//InvisionCommunity Events 4.7.23//EN
METHOD:PUBLISH
CALSCALE:GREGORIAN
REFRESH-INTERVAL:PT15M
X-PUBLISHED-TTL:PT15M
X-WR-CALNAME:At My TV
NAME:At My TV
BEGIN:VTIMEZONE
TZID:Europe/London
TZURL:http://tzurl.org/zoneinfo/Europe/London
X-LIC-LOCATION:Europe/London
BEGIN:DAYLIGHT
TZOFFSETFROM:+0000
TZOFFSETTO:+0100
TZNAME:BST
DTSTART:20150329T020000Z
RRULE:FREQ=YEARLY;BYMONTH=3;BYDAY=-1SU
END:DAYLIGHT
BEGIN:STANDARD
TZOFFSETFROM:+0100
TZOFFSETTO:+0000
TZNAME:GMT
DTSTART:20151025T020000Z
RRULE:FREQ=YEARLY;BYMONTH=10;BYDAY=-1SU
END:STANDARD
END:VTIMEZONE
BEGIN:VEVENT
SUMMARY:The Middle 7x5 - Land Of The Lost
DTSTAMP:20151008T120118Z
SEQUENCE:0
UID:41131-2-841ebed20eb198c4569419e99b7bf40a@themidnightzone.com
ORGANIZER;CN="Midnight":midnight@themidnightzone.com
DESCRIPTION:Frankie becomes worried about Mike\, who is being more quiet
	and distant than usual\, and calls on Reverend TimTom to comeover and try 
	to find out what's troubling him. Meanwhile\, Sueinvites an excited Brick 
	to spend a weekend with her atcollege\, which includes a tour of the libra
	ry. But when Suebumps into Logan -- the hunky Abercrombie guy who had aske
	d herout to prom -- and once again falls under his dreamy spell\,she reali
	zes that Brick is no longer with her and is nowmissing\; and Axl and Hutch
	 decide to take matters into theirown hands by complaining to the city whe
	n their house iscompletely overrun with ants\, and they discover that they
	 mayhave even more problems than an insect infestation.
DTSTART:20151022T000000Z
DTEND:20151022T003000Z
END:VEVENT
END:VCALENDAR
