BEGIN:VCALENDAR
VERSION:2.0
PRODID:-//InvisionCommunity Events 4.7.23//EN
METHOD:PUBLISH
CALSCALE:GREGORIAN
REFRESH-INTERVAL:PT15M
X-PUBLISHED-TTL:PT15M
X-WR-CALNAME:Pogdesign
NAME:Pogdesign
BEGIN:VTIMEZONE
TZID:Europe/London
TZURL:http://tzurl.org/zoneinfo/Europe/London
X-LIC-LOCATION:Europe/London
BEGIN:DAYLIGHT
TZOFFSETFROM:+0000
TZOFFSETTO:+0100
TZNAME:BST
DTSTART:20150329T020000Z
RRULE:FREQ=YEARLY;BYMONTH=3;BYDAY=-1SU
END:DAYLIGHT
BEGIN:STANDARD
TZOFFSETFROM:+0100
TZOFFSETTO:+0000
TZNAME:GMT
DTSTART:20151025T020000Z
RRULE:FREQ=YEARLY;BYMONTH=10;BYDAY=-1SU
END:STANDARD
END:VTIMEZONE
BEGIN:VEVENT
SUMMARY:The Graham Norton Show 18x4 - Colin Farrell\, Rachel Weisz\,
	Dawn French\, Chris O'Dowd\, Rod Stewart
DTSTAMP:20151009T133520Z
SEQUENCE:0
UID:41157-3-841ebed20eb198c4569419e99b7bf40a@themidnightzone.com
ORGANIZER;CN="Midnight":midnight@themidnightzone.com
DESCRIPTION:Hollywood heartthrob Colin Farrell and Oscar-winner RachelWe
	isz secure a space on the sofa to promote new dystopian dramaThe Lobster\,
	 in which they both star. Plus\, comedienne andwriter Dawn French talks ab
	out her new novel According to Yes\,and Irish actor Chris O'Dowd discusses
	 his new Lance Armstrongfilm The Program. Arguably\, the headlining guest 
	is RodStewart\, who performs from his new album Another Country.
DTSTART:20151016T173500Z
DTEND:20151016T183500Z
END:VEVENT
END:VCALENDAR
