BEGIN:VCALENDAR
VERSION:2.0
PRODID:-//InvisionCommunity Events 4.7.23//EN
METHOD:PUBLISH
CALSCALE:GREGORIAN
REFRESH-INTERVAL:PT15M
X-PUBLISHED-TTL:PT15M
X-WR-CALNAME:Pogdesign
NAME:Pogdesign
BEGIN:VTIMEZONE
TZID:Europe/London
TZURL:http://tzurl.org/zoneinfo/Europe/London
X-LIC-LOCATION:Europe/London
BEGIN:DAYLIGHT
TZOFFSETFROM:+0000
TZOFFSETTO:+0100
TZNAME:BST
DTSTART:20150329T020000Z
RRULE:FREQ=YEARLY;BYMONTH=3;BYDAY=-1SU
END:DAYLIGHT
BEGIN:STANDARD
TZOFFSETFROM:+0100
TZOFFSETTO:+0000
TZNAME:GMT
DTSTART:20151025T020000Z
RRULE:FREQ=YEARLY;BYMONTH=10;BYDAY=-1SU
END:STANDARD
END:VTIMEZONE
BEGIN:VEVENT
SUMMARY:The Vampire Diaries 7x3 - Age of Innocence
DTSTAMP:20151009T133521Z
SEQUENCE:0
UID:41184-3-841ebed20eb198c4569419e99b7bf40a@themidnightzone.com
ORGANIZER;CN="Midnight":midnight@themidnightzone.com
DESCRIPTION:In the aftermath of a clever plan orchestrated by Lily\, Dam
	onsets off on a road trip with Bonnie and Alaric in search ofleverage they
	 can use against his mother. Meanwhile\,Caroline\, who is being held hosta
	ge by the Heretics\, learnssome shocking information about Valerie's past\
	, while Stefanlearns a few unexpected details about his own past from Lily
	.Finally\, Alaric turns to Bonnie for her help after comingclean about a s
	ecret he's been keeping.
DTSTART:20151022T200000Z
DTEND:20151022T210000Z
END:VEVENT
END:VCALENDAR
