BEGIN:VCALENDAR
VERSION:2.0
PRODID:-//InvisionCommunity Events 4.7.23//EN
METHOD:PUBLISH
CALSCALE:GREGORIAN
REFRESH-INTERVAL:PT15M
X-PUBLISHED-TTL:PT15M
X-WR-CALNAME:At My TV
NAME:At My TV
BEGIN:VTIMEZONE
TZID:Europe/London
TZURL:http://tzurl.org/zoneinfo/Europe/London
X-LIC-LOCATION:Europe/London
BEGIN:DAYLIGHT
TZOFFSETFROM:+0000
TZOFFSETTO:+0100
TZNAME:BST
DTSTART:20150329T020000Z
RRULE:FREQ=YEARLY;BYMONTH=3;BYDAY=-1SU
END:DAYLIGHT
BEGIN:STANDARD
TZOFFSETFROM:+0100
TZOFFSETTO:+0000
TZNAME:GMT
DTSTART:20151025T020000Z
RRULE:FREQ=YEARLY;BYMONTH=10;BYDAY=-1SU
END:STANDARD
END:VTIMEZONE
BEGIN:VEVENT
SUMMARY:The Blacklist 3x4 - The Djinn
DTSTAMP:20151011T164446Z
SEQUENCE:0
UID:41192-2-841ebed20eb198c4569419e99b7bf40a@themidnightzone.com
ORGANIZER;CN="Midnight":midnight@themidnightzone.com
DESCRIPTION:Red and Liz continue their mission to clear Liz's name. Rede
	nlists the help of the task force to help them find a womancalled the Djin
	n\, a mysterious woman who fulfills revengefantasies. They believe the Dji
	nn can lead them to the Cabal\,the next step in exonerating Liz. Harry Len
	nix\, Ryan Eggold\,Amir Arison\, Mozhan Marne.
DTSTART:20151023T010000Z
DTEND:20151023T020000Z
END:VEVENT
END:VCALENDAR
