BEGIN:VCALENDAR
VERSION:2.0
PRODID:-//InvisionCommunity Events 4.7.23//EN
METHOD:PUBLISH
CALSCALE:GREGORIAN
REFRESH-INTERVAL:PT15M
X-PUBLISHED-TTL:PT15M
X-WR-CALNAME:At My TV
NAME:At My TV
BEGIN:VTIMEZONE
TZID:Europe/London
TZURL:http://tzurl.org/zoneinfo/Europe/London
X-LIC-LOCATION:Europe/London
BEGIN:DAYLIGHT
TZOFFSETFROM:+0000
TZOFFSETTO:+0100
TZNAME:BST
DTSTART:20150329T020000Z
RRULE:FREQ=YEARLY;BYMONTH=3;BYDAY=-1SU
END:DAYLIGHT
BEGIN:STANDARD
TZOFFSETFROM:+0100
TZOFFSETTO:+0000
TZNAME:GMT
DTSTART:20151025T020000Z
RRULE:FREQ=YEARLY;BYMONTH=10;BYDAY=-1SU
END:STANDARD
END:VTIMEZONE
BEGIN:VEVENT
SUMMARY:Worst Cooks In America: Celebrity Edition 1x5 - Tapas Can'tS
	top Us
DTSTAMP:20151011T164446Z
SEQUENCE:0
UID:41267-2-841ebed20eb198c4569419e99b7bf40a@themidnightzone.com
ORGANIZER;CN="Midnight":midnight@themidnightzone.com
DESCRIPTION:Chef Anne Burrell and Rachael Ray teach the final threerecru
	its about entertaining\, showcasing how to make chips\,salsa and guacamole
	 from scratch. Then\, putting theirentertaining and multitasking skills to
	 the test\, the celebsare challenged to make several tapas to be servedsim
	ultaneously. The final blind elimination of the season willdetermine which
	 two recruits head to the finale.\n\n
DTSTART:20151022T010000Z
DTEND:20151022T020000Z
END:VEVENT
END:VCALENDAR
