BEGIN:VCALENDAR
VERSION:2.0
PRODID:-//InvisionCommunity Events 4.7.23//EN
METHOD:PUBLISH
CALSCALE:GREGORIAN
REFRESH-INTERVAL:PT15M
X-PUBLISHED-TTL:PT15M
X-WR-CALNAME:Pogdesign
NAME:Pogdesign
BEGIN:VTIMEZONE
TZID:Europe/London
TZURL:http://tzurl.org/zoneinfo/Europe/London
X-LIC-LOCATION:Europe/London
BEGIN:DAYLIGHT
TZOFFSETFROM:+0000
TZOFFSETTO:+0100
TZNAME:BST
DTSTART:20150329T020000Z
RRULE:FREQ=YEARLY;BYMONTH=3;BYDAY=-1SU
END:DAYLIGHT
BEGIN:STANDARD
TZOFFSETFROM:+0100
TZOFFSETTO:+0000
TZNAME:GMT
DTSTART:20151025T020000Z
RRULE:FREQ=YEARLY;BYMONTH=10;BYDAY=-1SU
END:STANDARD
END:VTIMEZONE
BEGIN:VEVENT
SUMMARY:Blood and Oil 1x5 - Rocks and Hard Places
DTSTAMP:20151012T112909Z
SEQUENCE:0
UID:41280-3-841ebed20eb198c4569419e99b7bf40a@themidnightzone.com
ORGANIZER;CN="Midnight":midnight@themidnightzone.com
DESCRIPTION:Wick's shortcomings are magnified when his sister\, andpoten
	tial rival\, Lacey officially joins the family business.Meanwhile\, Billy 
	attempts to blackmail Hap with informationCody shared with him in confiden
	ce\, further putting theirmarriage on the line. Unable to shake suspicions
	 about hisson\, Hap pays a visit to Sherriff Tip\, who reveals that Wickma
	y know more about the robbery than he's letting on. Later\,Gary proves a c
	ontinuing threat to Wick - but when Wick triesto fight back - it's Cody wh
	o is put in harm's way.
DTSTART:20151025T210000Z
DTEND:20151025T220000Z
END:VEVENT
END:VCALENDAR
