BEGIN:VCALENDAR
VERSION:2.0
PRODID:-//InvisionCommunity Events 4.7.23//EN
METHOD:PUBLISH
CALSCALE:GREGORIAN
REFRESH-INTERVAL:PT15M
X-PUBLISHED-TTL:PT15M
X-WR-CALNAME:Pogdesign
NAME:Pogdesign
BEGIN:VTIMEZONE
TZID:Europe/London
TZURL:http://tzurl.org/zoneinfo/Europe/London
X-LIC-LOCATION:Europe/London
BEGIN:DAYLIGHT
TZOFFSETFROM:+0000
TZOFFSETTO:+0100
TZNAME:BST
DTSTART:20150329T020000Z
RRULE:FREQ=YEARLY;BYMONTH=3;BYDAY=-1SU
END:DAYLIGHT
BEGIN:STANDARD
TZOFFSETFROM:+0100
TZOFFSETTO:+0000
TZNAME:GMT
DTSTART:20151025T020000Z
RRULE:FREQ=YEARLY;BYMONTH=10;BYDAY=-1SU
END:STANDARD
END:VTIMEZONE
BEGIN:VEVENT
SUMMARY:Downton Abbey 6x6 - Series 6\, Episode 6
DTSTAMP:20151012T112909Z
SEQUENCE:0
UID:41294-3-841ebed20eb198c4569419e99b7bf40a@themidnightzone.com
ORGANIZER;CN="Midnight":midnight@themidnightzone.com
DESCRIPTION:The house is made open to the public to raise money for theh
	ospital\, an act that divides opinions among the family andthe servants. T
	ensions between Violet and Cora come to a headas a decision is made about 
	the hospital takeover\, Mr Daweshas a proposition for Molesley\, and Baxte
	r is thrown intoturmoil by an unexpected letter. Carson is not happy withT
	homas\, while Mary and Edith hope to overcome their past andfind new happi
	ness with the men in their lives.
DTSTART:20151025T170000Z
DTEND:20151025T183000Z
END:VEVENT
END:VCALENDAR
