BEGIN:VCALENDAR
VERSION:2.0
PRODID:-//InvisionCommunity Events 4.7.23//EN
METHOD:PUBLISH
CALSCALE:GREGORIAN
REFRESH-INTERVAL:PT15M
X-PUBLISHED-TTL:PT15M
X-WR-CALNAME:Pogdesign
NAME:Pogdesign
BEGIN:VTIMEZONE
TZID:Europe/London
TZURL:http://tzurl.org/zoneinfo/Europe/London
X-LIC-LOCATION:Europe/London
BEGIN:DAYLIGHT
TZOFFSETFROM:+0000
TZOFFSETTO:+0100
TZNAME:BST
DTSTART:20150329T020000Z
RRULE:FREQ=YEARLY;BYMONTH=3;BYDAY=-1SU
END:DAYLIGHT
BEGIN:STANDARD
TZOFFSETFROM:+0100
TZOFFSETTO:+0000
TZNAME:GMT
DTSTART:20151025T020000Z
RRULE:FREQ=YEARLY;BYMONTH=10;BYDAY=-1SU
END:STANDARD
END:VTIMEZONE
BEGIN:VEVENT
SUMMARY:Last Man Standing 5x5 - The Road Less Driven
DTSTAMP:20151012T112909Z
SEQUENCE:0
UID:41313-3-841ebed20eb198c4569419e99b7bf40a@themidnightzone.com
ORGANIZER;CN="Midnight":midnight@themidnightzone.com
DESCRIPTION:When Vanessa and the girls surprise Mike with a 1967 Impala 
	forhis birthday\, he's excited to have alone time in the garagewith the ca
	r. But when the car's original owner\, Joe\, keepsshowing up with spare pa
	rts and unwanted advice\, Mike dropssome not-so-subtle hints that he can d
	o without Joe's help.Meanwhile\, Mandy is mad when Vanessa allows Eve to g
	o to amusic festival - when she was never allowed to when she wasgrowing u
	p.
DTSTART:20151023T200000Z
DTEND:20151023T203000Z
END:VEVENT
END:VCALENDAR
