BEGIN:VCALENDAR
VERSION:2.0
PRODID:-//InvisionCommunity Events 4.7.23//EN
METHOD:PUBLISH
CALSCALE:GREGORIAN
REFRESH-INTERVAL:PT15M
X-PUBLISHED-TTL:PT15M
X-WR-CALNAME:At My TV
NAME:At My TV
BEGIN:VTIMEZONE
TZID:Europe/London
TZURL:http://tzurl.org/zoneinfo/Europe/London
X-LIC-LOCATION:Europe/London
BEGIN:DAYLIGHT
TZOFFSETFROM:+0000
TZOFFSETTO:+0100
TZNAME:BST
DTSTART:20150329T020000Z
RRULE:FREQ=YEARLY;BYMONTH=3;BYDAY=-1SU
END:DAYLIGHT
BEGIN:STANDARD
TZOFFSETFROM:+0100
TZOFFSETTO:+0000
TZNAME:GMT
DTSTART:20151025T020000Z
RRULE:FREQ=YEARLY;BYMONTH=10;BYDAY=-1SU
END:STANDARD
END:VTIMEZONE
BEGIN:VEVENT
SUMMARY:The Real Housewives Of Orange County 10x21 - Reunion\, Part 
	Two
DTSTAMP:20151013T165738Z
SEQUENCE:0
UID:41410-2-841ebed20eb198c4569419e99b7bf40a@themidnightzone.com
ORGANIZER;CN="Midnight":midnight@themidnightzone.com
DESCRIPTION:On part two of the reunion\, the ladies get wild and crazylo
	oking back at the best OMG moments of season 10. WhileShannon faces scruti
	ny about her marriage and David's affair\,tensions rise when Heather gets 
	heated about Vicki's betrayalof Tamra. Jim Edmonds also joins the ladies o
	n the couch and isput in the hot seat about his marriage to Meghan. Briana
	 makesan appearance and is no holds barred when it comes to heropinions ab
	out Brooks.
DTSTART:20151027T010000Z
DTEND:20151027T020000Z
END:VEVENT
END:VCALENDAR
