BEGIN:VCALENDAR
VERSION:2.0
PRODID:-//InvisionCommunity Events 4.7.23//EN
METHOD:PUBLISH
CALSCALE:GREGORIAN
REFRESH-INTERVAL:PT15M
X-PUBLISHED-TTL:PT15M
X-WR-CALNAME:Pogdesign
NAME:Pogdesign
BEGIN:VTIMEZONE
TZID:Europe/London
TZURL:http://tzurl.org/zoneinfo/Europe/London
X-LIC-LOCATION:Europe/London
BEGIN:DAYLIGHT
TZOFFSETFROM:+0000
TZOFFSETTO:+0100
TZNAME:BST
DTSTART:20150329T020000Z
RRULE:FREQ=YEARLY;BYMONTH=3;BYDAY=-1SU
END:DAYLIGHT
BEGIN:STANDARD
TZOFFSETFROM:+0100
TZOFFSETTO:+0000
TZNAME:GMT
DTSTART:20151025T020000Z
RRULE:FREQ=YEARLY;BYMONTH=10;BYDAY=-1SU
END:STANDARD
END:VTIMEZONE
BEGIN:VEVENT
SUMMARY:Supergirl 1x1 - Pilot
DTSTAMP:20151014T041530Z
SEQUENCE:0
UID:41466-3-841ebed20eb198c4569419e99b7bf40a@themidnightzone.com
ORGANIZER;CN="Midnight":midnight@themidnightzone.com
DESCRIPTION:Kara at age 12 was sent from her dying home planet of Krypto
	nto Earth\, where she was taken in by the Danvers\, a fosterfamily who tau
	ght her to be careful with her extraordinarypowers. After repressing said 
	skills for more than a decade\,Kara is forced to bust out her super moves 
	in public during anunexpected disaster. Energized by her heroism for the f
	irsttime in her life\, she begins embracing her abilities in thename of he
	lping the people of her city\, earning herself asuper moniker along the wa
	y.
DTSTART:20151026T200000Z
DTEND:20151026T210000Z
END:VEVENT
END:VCALENDAR
