BEGIN:VCALENDAR
VERSION:2.0
PRODID:-//InvisionCommunity Events 4.7.23//EN
METHOD:PUBLISH
CALSCALE:GREGORIAN
REFRESH-INTERVAL:PT15M
X-PUBLISHED-TTL:PT15M
X-WR-CALNAME:At My TV
NAME:At My TV
BEGIN:VTIMEZONE
TZID:Europe/London
TZURL:http://tzurl.org/zoneinfo/Europe/London
X-LIC-LOCATION:Europe/London
BEGIN:DAYLIGHT
TZOFFSETFROM:+0000
TZOFFSETTO:+0100
TZNAME:BST
DTSTART:20150329T020000Z
RRULE:FREQ=YEARLY;BYMONTH=3;BYDAY=-1SU
END:DAYLIGHT
BEGIN:STANDARD
TZOFFSETFROM:+0100
TZOFFSETTO:+0000
TZNAME:GMT
DTSTART:20151025T020000Z
RRULE:FREQ=YEARLY;BYMONTH=10;BYDAY=-1SU
END:STANDARD
END:VTIMEZONE
BEGIN:VEVENT
SUMMARY:iZombie 2x4 - Even Cowgirls Get the Black and Blues
DTSTAMP:20151014T170807Z
SEQUENCE:0
UID:41487-2-841ebed20eb198c4569419e99b7bf40a@themidnightzone.com
ORGANIZER;CN="Midnight":midnight@themidnightzone.com
DESCRIPTION:While investigating a case\, Liv eats the brains of acountry
	-singing waitress. Detective Babineaux meets a femaleFBI agent who will be
	 working out of their offices. Blainetries to entice a former business ass
	ociate to come back to thedark side. Meanwhile\, Peyton's return is messin
	g up Ravi'sgame\, and Major continues his downward spiral.
DTSTART:20151028T010000Z
DTEND:20151028T020000Z
END:VEVENT
END:VCALENDAR
