BEGIN:VCALENDAR
VERSION:2.0
PRODID:-//InvisionCommunity Events 4.7.23//EN
METHOD:PUBLISH
CALSCALE:GREGORIAN
REFRESH-INTERVAL:PT15M
X-PUBLISHED-TTL:PT15M
X-WR-CALNAME:At My TV
NAME:At My TV
BEGIN:VTIMEZONE
TZID:Europe/London
TZURL:http://tzurl.org/zoneinfo/Europe/London
X-LIC-LOCATION:Europe/London
BEGIN:DAYLIGHT
TZOFFSETFROM:+0000
TZOFFSETTO:+0100
TZNAME:BST
DTSTART:20150329T020000Z
RRULE:FREQ=YEARLY;BYMONTH=3;BYDAY=-1SU
END:DAYLIGHT
BEGIN:STANDARD
TZOFFSETFROM:+0100
TZOFFSETTO:+0000
TZNAME:GMT
DTSTART:20151025T020000Z
RRULE:FREQ=YEARLY;BYMONTH=10;BYDAY=-1SU
END:STANDARD
END:VTIMEZONE
BEGIN:VEVENT
SUMMARY:Public Morals 1x10 - A Thought and a Soul
DTSTAMP:20151014T170807Z
SEQUENCE:0
UID:41496-2-841ebed20eb198c4569419e99b7bf40a@themidnightzone.com
ORGANIZER;CN="Midnight":midnight@themidnightzone.com
DESCRIPTION:The streets of Hell's Kitchen run red with the blood of theI
	rish Mafia\, as the west side war comes to a head. Muldoontreats Christine
	 to a night on the town\, and makes a decision.Duffy gets surprising news 
	from Deirdre. As Bullman's feelingsfor Fortune intensify\, he's forced to 
	make a decision abouttheir relationship.
DTSTART:20151021T020000Z
DTEND:20151021T030000Z
END:VEVENT
END:VCALENDAR
