BEGIN:VCALENDAR
VERSION:2.0
PRODID:-//InvisionCommunity Events 4.7.23//EN
METHOD:PUBLISH
CALSCALE:GREGORIAN
REFRESH-INTERVAL:PT15M
X-PUBLISHED-TTL:PT15M
X-WR-CALNAME:Pogdesign
NAME:Pogdesign
BEGIN:VTIMEZONE
TZID:Europe/London
TZURL:http://tzurl.org/zoneinfo/Europe/London
X-LIC-LOCATION:Europe/London
BEGIN:DAYLIGHT
TZOFFSETFROM:+0000
TZOFFSETTO:+0100
TZNAME:BST
DTSTART:20150329T020000Z
RRULE:FREQ=YEARLY;BYMONTH=3;BYDAY=-1SU
END:DAYLIGHT
BEGIN:STANDARD
TZOFFSETFROM:+0100
TZOFFSETTO:+0000
TZNAME:GMT
DTSTART:20151025T020000Z
RRULE:FREQ=YEARLY;BYMONTH=10;BYDAY=-1SU
END:STANDARD
END:VTIMEZONE
BEGIN:VEVENT
SUMMARY:The Vampire Diaries 7x4 - I Carry Your Heart With Me
DTSTAMP:20151017T120000Z
SEQUENCE:0
UID:41628-3-841ebed20eb198c4569419e99b7bf40a@themidnightzone.com
ORGANIZER;CN="Midnight":midnight@themidnightzone.com
DESCRIPTION:Just as Damon thinks he's gained the upper hand in his fight
	against Lily\, an unexpected turn of events leaves himscrambling for a pla
	n B. Elsewhere\, when the fallout ofDamon's actions gains the unwanted att
	ention of Mary Louise andNora\, Stefan and Caroline are forced to spend th
	e nightdistracting the girls at Whitmore College's Heaven &amp\; Hellball.
	 Finally\, after suspecting that she's up to something\,Enzo sets off on a
	 mission to find out what Valerie is hiding\,while a plan set by Alaric an
	d Bonnie leaves their worldsturned upside down.
DTSTART:20151029T200000Z
DTEND:20151029T210000Z
END:VEVENT
END:VCALENDAR
