BEGIN:VCALENDAR
VERSION:2.0
PRODID:-//InvisionCommunity Events 4.7.23//EN
METHOD:PUBLISH
CALSCALE:GREGORIAN
REFRESH-INTERVAL:PT15M
X-PUBLISHED-TTL:PT15M
X-WR-CALNAME:At My TV
NAME:At My TV
BEGIN:VTIMEZONE
TZID:Europe/London
TZURL:http://tzurl.org/zoneinfo/Europe/London
X-LIC-LOCATION:Europe/London
BEGIN:DAYLIGHT
TZOFFSETFROM:+0000
TZOFFSETTO:+0100
TZNAME:BST
DTSTART:20150329T020000Z
RRULE:FREQ=YEARLY;BYMONTH=3;BYDAY=-1SU
END:DAYLIGHT
BEGIN:STANDARD
TZOFFSETFROM:+0100
TZOFFSETTO:+0000
TZNAME:GMT
DTSTART:20151025T020000Z
RRULE:FREQ=YEARLY;BYMONTH=10;BYDAY=-1SU
END:STANDARD
END:VTIMEZONE
BEGIN:VEVENT
SUMMARY:Grimm 5x1 - The Grimm Identity
DTSTAMP:20151017T181227Z
SEQUENCE:0
UID:41646-2-841ebed20eb198c4569419e99b7bf40a@themidnightzone.com
ORGANIZER;CN="Midnight":midnight@themidnightzone.com
DESCRIPTION:In the wake of his mother's beheading and Juliette's death\,
	things have never been more chaotic for Nick. Having lost somuch\, Nick mu
	st dig deep and decide what type of person hewants to be\, while also comi
	ng to grips with fathering a childwith his once sworn enemy\, Adalind. His
	 search for the truthleads him to FBI Agent Chavez and puts him at odds wi
	th thoseclose to him.
DTSTART:20151031T010000Z
DTEND:20151031T020000Z
END:VEVENT
END:VCALENDAR
