BEGIN:VCALENDAR
VERSION:2.0
PRODID:-//InvisionCommunity Events 4.7.23//EN
METHOD:PUBLISH
CALSCALE:GREGORIAN
REFRESH-INTERVAL:PT15M
X-PUBLISHED-TTL:PT15M
X-WR-CALNAME:Pogdesign
NAME:Pogdesign
BEGIN:VTIMEZONE
TZID:Europe/London
TZURL:http://tzurl.org/zoneinfo/Europe/London
X-LIC-LOCATION:Europe/London
BEGIN:DAYLIGHT
TZOFFSETFROM:+0000
TZOFFSETTO:+0100
TZNAME:BST
DTSTART:20150329T020000Z
RRULE:FREQ=YEARLY;BYMONTH=3;BYDAY=-1SU
END:DAYLIGHT
BEGIN:STANDARD
TZOFFSETFROM:+0100
TZOFFSETTO:+0000
TZNAME:GMT
DTSTART:20151025T020000Z
RRULE:FREQ=YEARLY;BYMONTH=10;BYDAY=-1SU
END:STANDARD
END:VTIMEZONE
BEGIN:VEVENT
SUMMARY:Storage Wars 8x12 - Mo' Money\, Mo' Valley
DTSTAMP:20151018T203213Z
SEQUENCE:0
UID:41724-3-841ebed20eb198c4569419e99b7bf40a@themidnightzone.com
ORGANIZER;CN="Midnight":midnight@themidnightzone.com
DESCRIPTION:Lockers go for big bucks as the buyers hit auctions in Moren
	oValley\, CA. Ivy and Dave duke it out for a pair of units whileMary tries
	 to avoid the shrapnel. Mavrick shows up and battlesto find a good unit\, 
	but getting one at a fair price might bemore than he can manage. And one b
	uyer hits it big with a twicein a lifetime find that provides over K in pr
	ofit!
DTSTART:20151020T223000Z
DTEND:20151020T230000Z
END:VEVENT
END:VCALENDAR
