BEGIN:VCALENDAR
VERSION:2.0
PRODID:-//InvisionCommunity Events 4.7.23//EN
METHOD:PUBLISH
CALSCALE:GREGORIAN
REFRESH-INTERVAL:PT15M
X-PUBLISHED-TTL:PT15M
X-WR-CALNAME:At My TV
NAME:At My TV
BEGIN:VTIMEZONE
TZID:Europe/London
TZURL:http://tzurl.org/zoneinfo/Europe/London
X-LIC-LOCATION:Europe/London
BEGIN:DAYLIGHT
TZOFFSETFROM:+0000
TZOFFSETTO:+0100
TZNAME:BST
DTSTART:20150329T020000Z
RRULE:FREQ=YEARLY;BYMONTH=3;BYDAY=-1SU
END:DAYLIGHT
BEGIN:STANDARD
TZOFFSETFROM:+0100
TZOFFSETTO:+0000
TZNAME:GMT
DTSTART:20151025T020000Z
RRULE:FREQ=YEARLY;BYMONTH=10;BYDAY=-1SU
END:STANDARD
END:VTIMEZONE
BEGIN:VEVENT
SUMMARY:Pawn Stars 9x72 - Pawn of Fire
DTSTAMP:20151022T162500Z
SEQUENCE:0
UID:41986-2-841ebed20eb198c4569419e99b7bf40a@themidnightzone.com
ORGANIZER;CN="Midnight":midnight@themidnightzone.com
DESCRIPTION:Walk the line with the Pawn Stars when a model train once ow
	nedby Johnny Cash chugs into the shop. Will Rick make a bid forthe Man in 
	Black or will he be singing the prison blues? Then\,Chum gets scrambled wh
	en a 1920's chicken incubator clucks onin. Will Chum hatch a deal or will 
	it get poached? Next\, Rickbecomes enlightened while checking out a 17th c
	entury TibetanBuddha. Will he be reborn as a buyer or take a vow of silenc
	e?And later\, Rick and Corey take a trip down memory lane in a1972 Cadilla
	c Eldorado. Will the guys take home the luxuryCaddy or will it turn out to
	 be a clunker?
DTSTART:20151023T010000Z
DTEND:20151023T013000Z
END:VEVENT
END:VCALENDAR
