BEGIN:VCALENDAR
VERSION:2.0
PRODID:-//InvisionCommunity Events 4.7.23//EN
METHOD:PUBLISH
CALSCALE:GREGORIAN
REFRESH-INTERVAL:PT15M
X-PUBLISHED-TTL:PT15M
X-WR-CALNAME:Pogdesign
NAME:Pogdesign
BEGIN:VTIMEZONE
TZID:Europe/London
TZURL:http://tzurl.org/zoneinfo/Europe/London
X-LIC-LOCATION:Europe/London
BEGIN:DAYLIGHT
TZOFFSETFROM:+0000
TZOFFSETTO:+0100
TZNAME:BST
DTSTART:20150329T020000Z
RRULE:FREQ=YEARLY;BYMONTH=3;BYDAY=-1SU
END:DAYLIGHT
BEGIN:STANDARD
TZOFFSETFROM:+0100
TZOFFSETTO:+0000
TZNAME:GMT
DTSTART:20151025T020000Z
RRULE:FREQ=YEARLY;BYMONTH=10;BYDAY=-1SU
END:STANDARD
END:VTIMEZONE
BEGIN:VEVENT
SUMMARY:Pawn Stars 9x75 - Godfather of Pawn
DTSTAMP:20151028T114109Z
SEQUENCE:0
UID:42313-3-841ebed20eb198c4569419e99b7bf40a@themidnightzone.com
ORGANIZER;CN="Midnight":midnight@themidnightzone.com
DESCRIPTION:Feel good with the Pawn Stars when a James Brown suit dances
	into the shop. Will Rick be saying\, &quot\;please\, please\,please&quot\;
	 for the Godfather of Soul's wardrobe or will itbe too funky? Then\, it's 
	a game of cat and mouse when Coreyand Chum check out an artist proof from 
	the film &quot\;AnchorsAweigh.&quot\; Will the deal set sail or will they 
	be left outat sea? Next\, Rick feels exposed when a controversial 1917Stan
	ding Liberty Quarter circulates the shop. Will he be in themoney or will t
	he deal not make sense? And later\, Chum buttersup to a 1920s popcorn make
	r. Will he make a concession andsettle on a price or will the deal go stal
	e?
DTSTART:20151029T213000Z
DTEND:20151029T220000Z
END:VEVENT
END:VCALENDAR
