BEGIN:VCALENDAR
VERSION:2.0
PRODID:-//InvisionCommunity Events 4.7.23//EN
METHOD:PUBLISH
CALSCALE:GREGORIAN
REFRESH-INTERVAL:PT15M
X-PUBLISHED-TTL:PT15M
X-WR-CALNAME:Pogdesign
NAME:Pogdesign
BEGIN:VTIMEZONE
TZID:Europe/London
TZURL:http://tzurl.org/zoneinfo/Europe/London
X-LIC-LOCATION:Europe/London
BEGIN:DAYLIGHT
TZOFFSETFROM:+0000
TZOFFSETTO:+0100
TZNAME:BST
DTSTART:20150329T020000Z
RRULE:FREQ=YEARLY;BYMONTH=3;BYDAY=-1SU
END:DAYLIGHT
BEGIN:STANDARD
TZOFFSETFROM:+0100
TZOFFSETTO:+0000
TZNAME:GMT
DTSTART:20151025T020000Z
RRULE:FREQ=YEARLY;BYMONTH=10;BYDAY=-1SU
END:STANDARD
END:VTIMEZONE
BEGIN:VEVENT
SUMMARY:Casualty 30x10 - Best Served Cold
DTSTAMP:20151101T000527Z
SEQUENCE:0
UID:42343-3-841ebed20eb198c4569419e99b7bf40a@themidnightzone.com
ORGANIZER;CN="Midnight":midnight@themidnightzone.com
DESCRIPTION:Thing become fishy when an unlikely patient arrives in theEm
	ergency Department\, while Dylan settles into his new homeand Cal falls in
	 love with his estranged daughter. Meanwhile\,Jacob learns that there is n
	o justice in the world when hefinds out that the Independent Police Compla
	ints Commission arenot going to take action against the officer who shot h
	im\, andConnie asks for a report on Alicia.
DTSTART:20151031T170500Z
DTEND:20151031T180500Z
END:VEVENT
END:VCALENDAR
