BEGIN:VCALENDAR
VERSION:2.0
PRODID:-//InvisionCommunity Events 4.7.23//EN
METHOD:PUBLISH
CALSCALE:GREGORIAN
REFRESH-INTERVAL:PT15M
X-PUBLISHED-TTL:PT15M
X-WR-CALNAME:At My TV
NAME:At My TV
BEGIN:VTIMEZONE
TZID:Europe/London
TZURL:http://tzurl.org/zoneinfo/Europe/London
X-LIC-LOCATION:Europe/London
BEGIN:DAYLIGHT
TZOFFSETFROM:+0000
TZOFFSETTO:+0100
TZNAME:BST
DTSTART:20150329T020000Z
RRULE:FREQ=YEARLY;BYMONTH=3;BYDAY=-1SU
END:DAYLIGHT
BEGIN:STANDARD
TZOFFSETFROM:+0100
TZOFFSETTO:+0000
TZNAME:GMT
DTSTART:20151025T020000Z
RRULE:FREQ=YEARLY;BYMONTH=10;BYDAY=-1SU
END:STANDARD
END:VTIMEZONE
BEGIN:VEVENT
SUMMARY:Family Guy 14x6 - Peter's Sister
DTSTAMP:20151102T135430Z
SEQUENCE:0
UID:42501-2-841ebed20eb198c4569419e99b7bf40a@themidnightzone.com
ORGANIZER;CN="Midnight":midnight@themidnightzone.com
DESCRIPTION:Peter's sister\, Karen\, visits for Thanksgiving and bullies
	Peter the same way he treats Meg. At first\, Meg is amused\,but she soon h
	elps Peter train to defeat his sister in awrestling match.Meanwhile\, to a
	void overeating onThanksgiving\, Stewie and Brian go on a cleanse\, which 
	Stewietakes one step too far
DTSTART:20151116T020000Z
DTEND:20151116T023000Z
END:VEVENT
END:VCALENDAR
