BEGIN:VCALENDAR
VERSION:2.0
PRODID:-//InvisionCommunity Events 4.7.23//EN
METHOD:PUBLISH
CALSCALE:GREGORIAN
REFRESH-INTERVAL:PT15M
X-PUBLISHED-TTL:PT15M
X-WR-CALNAME:At My TV
NAME:At My TV
BEGIN:VTIMEZONE
TZID:Europe/London
TZURL:http://tzurl.org/zoneinfo/Europe/London
X-LIC-LOCATION:Europe/London
BEGIN:DAYLIGHT
TZOFFSETFROM:+0000
TZOFFSETTO:+0100
TZNAME:BST
DTSTART:20150329T020000Z
RRULE:FREQ=YEARLY;BYMONTH=3;BYDAY=-1SU
END:DAYLIGHT
BEGIN:STANDARD
TZOFFSETFROM:+0100
TZOFFSETTO:+0000
TZNAME:GMT
DTSTART:20151025T020000Z
RRULE:FREQ=YEARLY;BYMONTH=10;BYDAY=-1SU
END:STANDARD
END:VTIMEZONE
BEGIN:VEVENT
SUMMARY:Cutthroat Kitchen 10x7 - Superstar Sabotage: Burrito The Lin
	e
DTSTAMP:20151116T113725Z
SEQUENCE:0
UID:43601-2-841ebed20eb198c4569419e99b7bf40a@themidnightzone.com
ORGANIZER;CN="Midnight":midnight@themidnightzone.com
DESCRIPTION:There's only one more spot in the Superstar Sabotage finale 
	andchefs Bobby Deen\, Alex Guarnaschelli\, Marcel Vigneron\, andSherry Yar
	d each think they have what it takes to get there. Toprove their skills\, 
	they must face sabotages such as making anomelet while walking on a giant 
	hamster wheel\, playing pin thetail on the donkey for burrito ingredients\
	, and joining theRockettes while making a New York cheesecake.
DTSTART:20151126T020000Z
DTEND:20151126T030000Z
END:VEVENT
END:VCALENDAR
