BEGIN:VCALENDAR
VERSION:2.0
PRODID:-//InvisionCommunity Events 4.7.23//EN
METHOD:PUBLISH
CALSCALE:GREGORIAN
REFRESH-INTERVAL:PT15M
X-PUBLISHED-TTL:PT15M
X-WR-CALNAME:Pogdesign
NAME:Pogdesign
BEGIN:VTIMEZONE
TZID:Europe/London
TZURL:http://tzurl.org/zoneinfo/Europe/London
X-LIC-LOCATION:Europe/London
BEGIN:DAYLIGHT
TZOFFSETFROM:+0000
TZOFFSETTO:+0100
TZNAME:BST
DTSTART:20160327T020000Z
RRULE:FREQ=YEARLY;BYMONTH=3;BYDAY=-1SU
END:DAYLIGHT
BEGIN:STANDARD
TZOFFSETFROM:+0100
TZOFFSETTO:+0000
TZNAME:GMT
DTSTART:20161030T020000Z
RRULE:FREQ=YEARLY;BYMONTH=10;BYDAY=-1SU
END:STANDARD
END:VTIMEZONE
BEGIN:VEVENT
SUMMARY:Mozart in the Jungle 2x6 - How to Make God Laugh
DTSTAMP:20151222T061746Z
SEQUENCE:0
UID:45078-3-841ebed20eb198c4569419e99b7bf40a@themidnightzone.com
ORGANIZER;CN="Midnight":midnight@themidnightzone.com
DESCRIPTION:Rodrigo shows Hailey HIS Mexico and takes her to a performan
	ceof his childhood youth orchestra. Thomas and Gloria meet withJuan Luis D
	elgado\, the richest man in Mexico. Cynthia gets asurprise visitor and end
	s up in an unexpected position. MaestroRivera\, Rodrigo's mentor\, asks hi
	m to fulfill a promise.
DTSTART:20160104T235900Z
DTEND:20160105T002900Z
END:VEVENT
END:VCALENDAR
