BEGIN:VCALENDAR
VERSION:2.0
PRODID:-//InvisionCommunity Events 4.7.23//EN
METHOD:PUBLISH
CALSCALE:GREGORIAN
REFRESH-INTERVAL:PT15M
X-PUBLISHED-TTL:PT15M
X-WR-CALNAME:Pogdesign
NAME:Pogdesign
BEGIN:VTIMEZONE
TZID:Europe/London
TZURL:http://tzurl.org/zoneinfo/Europe/London
X-LIC-LOCATION:Europe/London
BEGIN:DAYLIGHT
TZOFFSETFROM:+0000
TZOFFSETTO:+0100
TZNAME:BST
DTSTART:20150329T020000Z
RRULE:FREQ=YEARLY;BYMONTH=3;BYDAY=-1SU
END:DAYLIGHT
BEGIN:STANDARD
TZOFFSETFROM:+0100
TZOFFSETTO:+0000
TZNAME:GMT
DTSTART:20151025T020000Z
RRULE:FREQ=YEARLY;BYMONTH=10;BYDAY=-1SU
END:STANDARD
END:VTIMEZONE
BEGIN:VEVENT
SUMMARY:Strictly Come Dancing 13x0 - Christmas Special 2015
DTSTAMP:20151226T032942Z
SEQUENCE:0
UID:45262-3-841ebed20eb198c4569419e99b7bf40a@themidnightzone.com
ORGANIZER;CN="Midnight":midnight@themidnightzone.com
DESCRIPTION:You can't have too much Strictly at this time of year. Sixfo
	rmer contestants will be rocking around the Christmas tree tothemes includ
	ing Alice in Wonderland\, Jack Frost and Scrooge.There are also several da
	nce sequences that were filmed in theGreat Hall of Hogwarts Castle\, and a
	 performance by ShirleyBassey.While 2013 winner Abbey Clancy has admitted 
	she’s outof practice and had &quot\;forgotten how many stamina andstreng
	th you need&quot\; for this\, the dancing should besublime: Tom Chambers a
	nd Harry Judd are in the line-up\, forgoodness' sake.
DTSTART:20151225T131500Z
DTEND:20151225T144500Z
END:VEVENT
END:VCALENDAR
