BEGIN:VCALENDAR
VERSION:2.0
PRODID:-//InvisionCommunity Events 4.7.23//EN
METHOD:PUBLISH
CALSCALE:GREGORIAN
REFRESH-INTERVAL:PT15M
X-PUBLISHED-TTL:PT15M
X-WR-CALNAME:At My TV
NAME:At My TV
BEGIN:VTIMEZONE
TZID:Europe/London
TZURL:http://tzurl.org/zoneinfo/Europe/London
X-LIC-LOCATION:Europe/London
BEGIN:DAYLIGHT
TZOFFSETFROM:+0000
TZOFFSETTO:+0100
TZNAME:BST
DTSTART:20160327T020000Z
RRULE:FREQ=YEARLY;BYMONTH=3;BYDAY=-1SU
END:DAYLIGHT
BEGIN:STANDARD
TZOFFSETFROM:+0100
TZOFFSETTO:+0000
TZNAME:GMT
DTSTART:20161030T020000Z
RRULE:FREQ=YEARLY;BYMONTH=10;BYDAY=-1SU
END:STANDARD
END:VTIMEZONE
BEGIN:VEVENT
SUMMARY:Grandfathered 1x11 - The Sat Pack
DTSTAMP:20151230T140037Z
SEQUENCE:0
UID:45397-2-841ebed20eb198c4569419e99b7bf40a@themidnightzone.com
ORGANIZER;CN="Midnight":midnight@themidnightzone.com
DESCRIPTION:When Jimmy reunites with his old buddies in the \"Sat Pack\,
	\"Ronnie (guest star Bob Saget) gives him a hard time about hisnew life as
	 a family man. Meanwhile\, Bruce (guest star AndyDaly) springs big news on
	 Sara\, and Gerald is blindsided byFrankie's (guest star Lyndsy Fonseca) c
	onfession.
DTSTART:20160113T013000Z
DTEND:20160113T020000Z
END:VEVENT
END:VCALENDAR
