BEGIN:VCALENDAR
VERSION:2.0
PRODID:-//InvisionCommunity Events 4.7.23//EN
METHOD:PUBLISH
CALSCALE:GREGORIAN
REFRESH-INTERVAL:PT15M
X-PUBLISHED-TTL:PT15M
X-WR-CALNAME:Pogdesign
NAME:Pogdesign
BEGIN:VTIMEZONE
TZID:Europe/London
TZURL:http://tzurl.org/zoneinfo/Europe/London
X-LIC-LOCATION:Europe/London
BEGIN:DAYLIGHT
TZOFFSETFROM:+0000
TZOFFSETTO:+0100
TZNAME:BST
DTSTART:20160327T020000Z
RRULE:FREQ=YEARLY;BYMONTH=3;BYDAY=-1SU
END:DAYLIGHT
BEGIN:STANDARD
TZOFFSETFROM:+0100
TZOFFSETTO:+0000
TZNAME:GMT
DTSTART:20161030T020000Z
RRULE:FREQ=YEARLY;BYMONTH=10;BYDAY=-1SU
END:STANDARD
END:VTIMEZONE
BEGIN:VEVENT
SUMMARY:Shark Tank 7x14 - Season 7\, Episode 14
DTSTAMP:20160106T164041Z
SEQUENCE:0
UID:45811-3-841ebed20eb198c4569419e99b7bf40a@themidnightzone.com
ORGANIZER;CN="Midnight":midnight@themidnightzone.com
DESCRIPTION:Former Google executive and billionaire Silicon Valley ventu
	recapitalist Chris Sacca\, best known for being among theearliest and larg
	est investors in companies such as Twitter\,Uber\, Instagram and Kickstart
	er\, returns to the Tank as aguest shark. A husband and wife team from Pal
	o Alto\, CA has adevice for babies to stay on track and parents to stay sa
	ne\;entrepreneurial twins from Denver\, CO have an online businessthat can
	 ease the pain of paying for college\; and a man fromSan Francisco has a t
	ech solution to the dreaded parkingticket. Plus\, a follow up on Rugged Ra
	ces\, the events companyfounded by Boston-based Brad Scudder and Rob Dicke
	ns\, in whichMark Cuban invested during Season Five.
DTSTART:20160115T200000Z
DTEND:20160115T210000Z
END:VEVENT
END:VCALENDAR
