BEGIN:VCALENDAR
VERSION:2.0
PRODID:-//InvisionCommunity Events 4.7.23//EN
METHOD:PUBLISH
CALSCALE:GREGORIAN
REFRESH-INTERVAL:PT15M
X-PUBLISHED-TTL:PT15M
X-WR-CALNAME:Pogdesign
NAME:Pogdesign
BEGIN:VTIMEZONE
TZID:Europe/London
TZURL:http://tzurl.org/zoneinfo/Europe/London
X-LIC-LOCATION:Europe/London
BEGIN:DAYLIGHT
TZOFFSETFROM:+0000
TZOFFSETTO:+0100
TZNAME:BST
DTSTART:20160327T020000Z
RRULE:FREQ=YEARLY;BYMONTH=3;BYDAY=-1SU
END:DAYLIGHT
BEGIN:STANDARD
TZOFFSETFROM:+0100
TZOFFSETTO:+0000
TZNAME:GMT
DTSTART:20161030T020000Z
RRULE:FREQ=YEARLY;BYMONTH=10;BYDAY=-1SU
END:STANDARD
END:VTIMEZONE
BEGIN:VEVENT
SUMMARY:Cooper Barrett's Guide To Surviving Life 1x3 - How to Surviv
	eBeing a Plus One
DTSTAMP:20160111T111630Z
SEQUENCE:0
UID:46018-3-841ebed20eb198c4569419e99b7bf40a@themidnightzone.com
ORGANIZER;CN="Midnight":midnight@themidnightzone.com
DESCRIPTION:When Kelly gets invited to her ex-boyfriend's wedding inMexi
	co\, she doesn't want to show up alone - so she decides tobring Cooper as 
	her plus one. But when getting to the weddingbecomes a south-of-the-border
	 logistical nightmare\, Cooperenlists Neal\, Barry\, Josh and Leslie to co
	me to their rescue.
DTSTART:20160117T203000Z
DTEND:20160117T210000Z
END:VEVENT
END:VCALENDAR
