BEGIN:VCALENDAR
VERSION:2.0
PRODID:-//InvisionCommunity Events 4.7.23//EN
METHOD:PUBLISH
CALSCALE:GREGORIAN
REFRESH-INTERVAL:PT15M
X-PUBLISHED-TTL:PT15M
X-WR-CALNAME:Pogdesign
NAME:Pogdesign
BEGIN:VTIMEZONE
TZID:Europe/London
TZURL:http://tzurl.org/zoneinfo/Europe/London
X-LIC-LOCATION:Europe/London
BEGIN:DAYLIGHT
TZOFFSETFROM:+0000
TZOFFSETTO:+0100
TZNAME:BST
DTSTART:20160327T020000Z
RRULE:FREQ=YEARLY;BYMONTH=3;BYDAY=-1SU
END:DAYLIGHT
BEGIN:STANDARD
TZOFFSETFROM:+0100
TZOFFSETTO:+0000
TZNAME:GMT
DTSTART:20161030T020000Z
RRULE:FREQ=YEARLY;BYMONTH=10;BYDAY=-1SU
END:STANDARD
END:VTIMEZONE
BEGIN:VEVENT
SUMMARY:Silent Witness 19x5 - Life Licence: Part 1
DTSTAMP:20160112T072416Z
SEQUENCE:0
UID:46125-3-841ebed20eb198c4569419e99b7bf40a@themidnightzone.com
ORGANIZER;CN="Midnight":midnight@themidnightzone.com
DESCRIPTION:When an ex-convict is found brutally murdered in his home\, 
	theLyell team is introduced to Sasha Blackburn\, a forensicpsychologist wh
	o works closely with those released from prisonon life licence. The victim
	 was a client of Sasha's\, and so isone of the suspects: Paul Raynott\, a 
	vulnerable young mantrying to turn his life around with Sasha's help.
DTSTART:20160118T160000Z
DTEND:20160118T170000Z
END:VEVENT
END:VCALENDAR
