BEGIN:VCALENDAR
VERSION:2.0
PRODID:-//InvisionCommunity Events 4.7.23//EN
METHOD:PUBLISH
CALSCALE:GREGORIAN
REFRESH-INTERVAL:PT15M
X-PUBLISHED-TTL:PT15M
X-WR-CALNAME:At My TV
NAME:At My TV
BEGIN:VTIMEZONE
TZID:Europe/London
TZURL:http://tzurl.org/zoneinfo/Europe/London
X-LIC-LOCATION:Europe/London
BEGIN:DAYLIGHT
TZOFFSETFROM:+0000
TZOFFSETTO:+0100
TZNAME:BST
DTSTART:20160327T020000Z
RRULE:FREQ=YEARLY;BYMONTH=3;BYDAY=-1SU
END:DAYLIGHT
BEGIN:STANDARD
TZOFFSETFROM:+0100
TZOFFSETTO:+0000
TZNAME:GMT
DTSTART:20161030T020000Z
RRULE:FREQ=YEARLY;BYMONTH=10;BYDAY=-1SU
END:STANDARD
END:VTIMEZONE
BEGIN:VEVENT
SUMMARY:Shades of Blue 1x5 - Equal & Opposite
DTSTAMP:20160122T162103Z
SEQUENCE:0
UID:46845-2-841ebed20eb198c4569419e99b7bf40a@themidnightzone.com
ORGANIZER;CN="Midnight":midnight@themidnightzone.com
DESCRIPTION:Harlee and Tess intercept a heroin shipment from a local dru
	glord who discovers Wozniak's secret and tries to use it asleverage to get
	 his confiscated drugs back. Harlee fearsStahl's interest in her goes beyo
	nd the professional\,believing that he is invading her privacy\, and resor
	ts tospying on him with the help of an old friend. Tess tries to useEspada
	 to get back at her husband.
DTSTART:20160205T030000Z
DTEND:20160205T040000Z
END:VEVENT
END:VCALENDAR
