BEGIN:VCALENDAR
VERSION:2.0
PRODID:-//InvisionCommunity Events 4.7.23//EN
METHOD:PUBLISH
CALSCALE:GREGORIAN
REFRESH-INTERVAL:PT15M
X-PUBLISHED-TTL:PT15M
X-WR-CALNAME:At My TV
NAME:At My TV
BEGIN:VTIMEZONE
TZID:Europe/London
TZURL:http://tzurl.org/zoneinfo/Europe/London
X-LIC-LOCATION:Europe/London
BEGIN:DAYLIGHT
TZOFFSETFROM:+0000
TZOFFSETTO:+0100
TZNAME:BST
DTSTART:20160327T020000Z
RRULE:FREQ=YEARLY;BYMONTH=3;BYDAY=-1SU
END:DAYLIGHT
BEGIN:STANDARD
TZOFFSETFROM:+0100
TZOFFSETTO:+0000
TZNAME:GMT
DTSTART:20161030T020000Z
RRULE:FREQ=YEARLY;BYMONTH=10;BYDAY=-1SU
END:STANDARD
END:VTIMEZONE
BEGIN:VEVENT
SUMMARY:8 out of 10 Cats Does Countdown 9x4 - David Mitchell\,Kather
	ine Ryan\, The Brett Domino Trio
DTSTAMP:20160124T111506Z
SEQUENCE:0
UID:46901-2-841ebed20eb198c4569419e99b7bf40a@themidnightzone.com
ORGANIZER;CN="Midnight":midnight@themidnightzone.com
DESCRIPTION:Jimmy Carr hosts with Sean Lock and David Mitchell going upa
	gainst Jon Richardson and Katherine Ryan. Brett Domino Triojoins Countdown
	's resident lexicographer Susie Dent inDictionary Corner\, while Rachel Ri
	ley looks after the numbersand letters.
DTSTART:20160826T200000Z
DTEND:20160826T210000Z
END:VEVENT
END:VCALENDAR
