BEGIN:VCALENDAR
VERSION:2.0
PRODID:-//InvisionCommunity Events 4.7.23//EN
METHOD:PUBLISH
CALSCALE:GREGORIAN
REFRESH-INTERVAL:PT15M
X-PUBLISHED-TTL:PT15M
X-WR-CALNAME:Pogdesign
NAME:Pogdesign
BEGIN:VTIMEZONE
TZID:Europe/London
TZURL:http://tzurl.org/zoneinfo/Europe/London
X-LIC-LOCATION:Europe/London
BEGIN:DAYLIGHT
TZOFFSETFROM:+0000
TZOFFSETTO:+0100
TZNAME:BST
DTSTART:20160327T020000Z
RRULE:FREQ=YEARLY;BYMONTH=3;BYDAY=-1SU
END:DAYLIGHT
BEGIN:STANDARD
TZOFFSETFROM:+0100
TZOFFSETTO:+0000
TZNAME:GMT
DTSTART:20161030T020000Z
RRULE:FREQ=YEARLY;BYMONTH=10;BYDAY=-1SU
END:STANDARD
END:VTIMEZONE
BEGIN:VEVENT
SUMMARY:The Grinder 1x14 - The Retooling of Dean Sanderson
DTSTAMP:20160127T061854Z
SEQUENCE:0
UID:47034-3-841ebed20eb198c4569419e99b7bf40a@themidnightzone.com
ORGANIZER;CN="Midnight":midnight@themidnightzone.com
DESCRIPTION:When Dean scares off a big prospective client by being toodr
	amatic\, Stewart tells him maybe it's finally time to let goof his &quot\;
	Grinder&quot\; persona and come down to earth. Hetries to convince Dean he
	 should go to therapy. Deanreluctantly agrees\, but in typical Dean fashio
	n\, heovercorrects and begins &quot\;therapizing&quot\; the wholefamily\, 
	including Debbie\, who is now tempted to quit hergrueling job.
DTSTART:20160209T213000Z
DTEND:20160209T220000Z
END:VEVENT
END:VCALENDAR
