BEGIN:VCALENDAR
VERSION:2.0
PRODID:-//InvisionCommunity Events 4.7.23//EN
METHOD:PUBLISH
CALSCALE:GREGORIAN
REFRESH-INTERVAL:PT15M
X-PUBLISHED-TTL:PT15M
X-WR-CALNAME:At My TV
NAME:At My TV
BEGIN:VTIMEZONE
TZID:Europe/London
TZURL:http://tzurl.org/zoneinfo/Europe/London
X-LIC-LOCATION:Europe/London
BEGIN:DAYLIGHT
TZOFFSETFROM:+0000
TZOFFSETTO:+0100
TZNAME:BST
DTSTART:20160327T020000Z
RRULE:FREQ=YEARLY;BYMONTH=3;BYDAY=-1SU
END:DAYLIGHT
BEGIN:STANDARD
TZOFFSETFROM:+0100
TZOFFSETTO:+0000
TZNAME:GMT
DTSTART:20161030T020000Z
RRULE:FREQ=YEARLY;BYMONTH=10;BYDAY=-1SU
END:STANDARD
END:VTIMEZONE
BEGIN:VEVENT
SUMMARY:The Grinder 1x14 - The Retooling of Dean Sanderson
DTSTAMP:20160127T143648Z
SEQUENCE:0
UID:47067-2-841ebed20eb198c4569419e99b7bf40a@themidnightzone.com
ORGANIZER;CN="Midnight":midnight@themidnightzone.com
DESCRIPTION:When Dean scares off a big prospective client by being toodr
	amatic\, Stewart tells him maybe it's finally time to let goof his \"Grind
	er\" persona and come down to earth. He tries toconvince Dean he should go
	 to therapy. Dean reluctantlyagrees\, but in typical Dean fashion\, he ove
	rcorrects andbegins \"therapizing\" the whole family\, including Debbie\, 
	whois now tempted to quit her grueling job.
DTSTART:20160210T023000Z
DTEND:20160210T030000Z
END:VEVENT
END:VCALENDAR
