BEGIN:VCALENDAR
VERSION:2.0
PRODID:-//InvisionCommunity Events 4.7.23//EN
METHOD:PUBLISH
CALSCALE:GREGORIAN
REFRESH-INTERVAL:PT15M
X-PUBLISHED-TTL:PT15M
X-WR-CALNAME:At My TV
NAME:At My TV
BEGIN:VTIMEZONE
TZID:Europe/London
TZURL:http://tzurl.org/zoneinfo/Europe/London
X-LIC-LOCATION:Europe/London
BEGIN:DAYLIGHT
TZOFFSETFROM:+0000
TZOFFSETTO:+0100
TZNAME:BST
DTSTART:20160327T020000Z
RRULE:FREQ=YEARLY;BYMONTH=3;BYDAY=-1SU
END:DAYLIGHT
BEGIN:STANDARD
TZOFFSETFROM:+0100
TZOFFSETTO:+0000
TZNAME:GMT
DTSTART:20161030T020000Z
RRULE:FREQ=YEARLY;BYMONTH=10;BYDAY=-1SU
END:STANDARD
END:VTIMEZONE
BEGIN:VEVENT
SUMMARY:Recovery Road 1x4 - Parties Without Borders
DTSTAMP:20160202T115041Z
SEQUENCE:0
UID:47433-2-841ebed20eb198c4569419e99b7bf40a@themidnightzone.com
ORGANIZER;CN="Midnight":midnight@themidnightzone.com
DESCRIPTION:When the residents of an upscale rehab facility have totempo
	rarily move into Springtime Meadows\, Vern is elated thathis favorite actr
	ess Olivia O'Brien is among them. But Oliviaisn't what Vern expected. Madd
	ie is feeling left out of herhigh school life and decides her boyfriend Za
	ch's birthday isthe perfect opportunity to reclaim her place. But when the
	celebration turns into a wild party\, Maddie is faced withtemptation to sl
	ip back into her old ways. Flashbacks highlightVern's addiction and Cynthi
	a's efforts to help her best friendget clean.
DTSTART:20160216T020000Z
DTEND:20160216T030000Z
END:VEVENT
END:VCALENDAR
