BEGIN:VCALENDAR
VERSION:2.0
PRODID:-//InvisionCommunity Events 4.7.23//EN
METHOD:PUBLISH
CALSCALE:GREGORIAN
REFRESH-INTERVAL:PT15M
X-PUBLISHED-TTL:PT15M
X-WR-CALNAME:At My TV
NAME:At My TV
BEGIN:VTIMEZONE
TZID:Europe/London
TZURL:http://tzurl.org/zoneinfo/Europe/London
X-LIC-LOCATION:Europe/London
BEGIN:DAYLIGHT
TZOFFSETFROM:+0000
TZOFFSETTO:+0100
TZNAME:BST
DTSTART:20160327T020000Z
RRULE:FREQ=YEARLY;BYMONTH=3;BYDAY=-1SU
END:DAYLIGHT
BEGIN:STANDARD
TZOFFSETFROM:+0100
TZOFFSETTO:+0000
TZNAME:GMT
DTSTART:20161030T020000Z
RRULE:FREQ=YEARLY;BYMONTH=10;BYDAY=-1SU
END:STANDARD
END:VTIMEZONE
BEGIN:VEVENT
SUMMARY:Modern Family 7x13 - Thunk in the Trunk
DTSTAMP:20160204T121552Z
SEQUENCE:0
UID:47559-2-841ebed20eb198c4569419e99b7bf40a@themidnightzone.com
ORGANIZER;CN="Midnight":midnight@themidnightzone.com
DESCRIPTION:Now that Claire has been running the closet business for awh
	ile\, she and Phil have fallen into a new rhythm\, withClaire assuming the
	 role of the wheeling and dealingbreadwinner and Phil as the invisible hou
	sewife\, but Phil willnot stand for being ignored and underappreciated for
	 long.Meanwhile\, Jay lets his jealousy get the best of him when alife-siz
	e cutout of Gloria for her grocery store hot saucedisplay solicits all kin
	ds of unsavory attention from men\, sohe enlists Manny as his accomplice i
	n a poorly orchestratedheist. And\, Cam and Mitch are being extra hospitab
	le to getbetter reviews for their rental property\, but when the newrenter
	s start acting undeniably suspicious\, they can't helpbut snoop.
DTSTART:20160218T020000Z
DTEND:20160218T023000Z
END:VEVENT
END:VCALENDAR
