BEGIN:VCALENDAR
VERSION:2.0
PRODID:-//InvisionCommunity Events 4.7.23//EN
METHOD:PUBLISH
CALSCALE:GREGORIAN
REFRESH-INTERVAL:PT15M
X-PUBLISHED-TTL:PT15M
X-WR-CALNAME:At My TV
NAME:At My TV
BEGIN:VTIMEZONE
TZID:Europe/London
TZURL:http://tzurl.org/zoneinfo/Europe/London
X-LIC-LOCATION:Europe/London
BEGIN:DAYLIGHT
TZOFFSETFROM:+0000
TZOFFSETTO:+0100
TZNAME:BST
DTSTART:20160327T020000Z
RRULE:FREQ=YEARLY;BYMONTH=3;BYDAY=-1SU
END:DAYLIGHT
BEGIN:STANDARD
TZOFFSETFROM:+0100
TZOFFSETTO:+0000
TZNAME:GMT
DTSTART:20161030T020000Z
RRULE:FREQ=YEARLY;BYMONTH=10;BYDAY=-1SU
END:STANDARD
END:VTIMEZONE
BEGIN:VEVENT
SUMMARY:The Fosters (2013) 3x15 - Minor Offenses
DTSTAMP:20160209T111202Z
SEQUENCE:0
UID:47911-2-841ebed20eb198c4569419e99b7bf40a@themidnightzone.com
ORGANIZER;CN="Midnight":midnight@themidnightzone.com
DESCRIPTION:After Stef and Lena express concern over Callie filming anen
	dorsement in support of a foster care reform bill\, Calliegoes to Rita for
	 advice\, When Stef and Lena discover Calliewants to film an endorsement s
	upporting a new foster carereform bill\, they express concern\, prompting 
	Callie to seekout Rita for support. Hoping to impress Mariana\, Nick turns
	 toJesus for advice on planning their first date. Meanwhile\, Stefrecovers
	 from a medical procedure.
DTSTART:20160223T010000Z
DTEND:20160223T020000Z
END:VEVENT
END:VCALENDAR
