BEGIN:VCALENDAR
VERSION:2.0
PRODID:-//InvisionCommunity Events 4.7.23//EN
METHOD:PUBLISH
CALSCALE:GREGORIAN
REFRESH-INTERVAL:PT15M
X-PUBLISHED-TTL:PT15M
X-WR-CALNAME:Pogdesign
NAME:Pogdesign
BEGIN:VTIMEZONE
TZID:Europe/London
TZURL:http://tzurl.org/zoneinfo/Europe/London
X-LIC-LOCATION:Europe/London
BEGIN:DAYLIGHT
TZOFFSETFROM:+0000
TZOFFSETTO:+0100
TZNAME:BST
DTSTART:20160327T020000Z
RRULE:FREQ=YEARLY;BYMONTH=3;BYDAY=-1SU
END:DAYLIGHT
BEGIN:STANDARD
TZOFFSETFROM:+0100
TZOFFSETTO:+0000
TZNAME:GMT
DTSTART:20161030T020000Z
RRULE:FREQ=YEARLY;BYMONTH=10;BYDAY=-1SU
END:STANDARD
END:VTIMEZONE
BEGIN:VEVENT
SUMMARY:Dickensian 1x18 - Series 1\, Episode 18
DTSTAMP:20160211T071201Z
SEQUENCE:0
UID:48005-3-841ebed20eb198c4569419e99b7bf40a@themidnightzone.com
ORGANIZER;CN="Midnight":midnight@themidnightzone.com
DESCRIPTION:Inspector Bucket has identified Jacob Marley's killer but fa
	cesa moral dilemma. Arthur Havisham is devastated - not only hashe set his
	 sister up with Compeyson\, he can see no way of everbeing reconciled with
	 her. But then\, out of the blue\, hispossible salvation arrives in the sh
	ape of Matthew Pocket\,back from America and determined to prevent Amelia'
	s wedding.
DTSTART:20160218T153000Z
DTEND:20160218T160000Z
END:VEVENT
END:VCALENDAR
