BEGIN:VCALENDAR
VERSION:2.0
PRODID:-//InvisionCommunity Events 4.7.23//EN
METHOD:PUBLISH
CALSCALE:GREGORIAN
REFRESH-INTERVAL:PT15M
X-PUBLISHED-TTL:PT15M
X-WR-CALNAME:At My TV
NAME:At My TV
BEGIN:VTIMEZONE
TZID:Europe/London
TZURL:http://tzurl.org/zoneinfo/Europe/London
X-LIC-LOCATION:Europe/London
BEGIN:DAYLIGHT
TZOFFSETFROM:+0000
TZOFFSETTO:+0100
TZNAME:BST
DTSTART:20160327T020000Z
RRULE:FREQ=YEARLY;BYMONTH=3;BYDAY=-1SU
END:DAYLIGHT
BEGIN:STANDARD
TZOFFSETFROM:+0100
TZOFFSETTO:+0000
TZNAME:GMT
DTSTART:20161030T020000Z
RRULE:FREQ=YEARLY;BYMONTH=10;BYDAY=-1SU
END:STANDARD
END:VTIMEZONE
BEGIN:VEVENT
SUMMARY:The Night Manager 1x2 - Episode 2
DTSTAMP:20160223T111202Z
SEQUENCE:0
UID:48794-2-841ebed20eb198c4569419e99b7bf40a@themidnightzone.com
ORGANIZER;CN="Midnight":midnight@themidnightzone.com
DESCRIPTION:Roper and his entourage are preparing for a lavish meal on t
	heIsland. Following their dinner\, the group find themselvesconfronted by 
	two robbers who kidnap Daniel. However all is notas it seems\, as there's 
	a mysterious man lurking in theshadows. A flashback to six months earlier\
	, shows Pine andBurr meeting in Zermatt\, as they discuss how they want to
	bring Roper down. Pine begins to leave a trail of criminalactivities\, to 
	try and gain Roper's trust and inflitrate hisclose-knit group.
DTSTART:20160228T210000Z
DTEND:20160228T220000Z
END:VEVENT
END:VCALENDAR
