BEGIN:VCALENDAR
VERSION:2.0
PRODID:-//InvisionCommunity Events 4.7.23//EN
METHOD:PUBLISH
CALSCALE:GREGORIAN
REFRESH-INTERVAL:PT15M
X-PUBLISHED-TTL:PT15M
X-WR-CALNAME:At My TV
NAME:At My TV
BEGIN:VTIMEZONE
TZID:Europe/London
TZURL:http://tzurl.org/zoneinfo/Europe/London
X-LIC-LOCATION:Europe/London
BEGIN:DAYLIGHT
TZOFFSETFROM:+0000
TZOFFSETTO:+0100
TZNAME:BST
DTSTART:20160327T020000Z
RRULE:FREQ=YEARLY;BYMONTH=3;BYDAY=-1SU
END:DAYLIGHT
BEGIN:STANDARD
TZOFFSETFROM:+0100
TZOFFSETTO:+0000
TZNAME:GMT
DTSTART:20161030T020000Z
RRULE:FREQ=YEARLY;BYMONTH=10;BYDAY=-1SU
END:STANDARD
END:VTIMEZONE
BEGIN:VEVENT
SUMMARY:The Night Manager 1x3 - Episode 3
DTSTAMP:20160223T111202Z
SEQUENCE:0
UID:48795-2-841ebed20eb198c4569419e99b7bf40a@themidnightzone.com
ORGANIZER;CN="Midnight":midnight@themidnightzone.com
DESCRIPTION:A glamorous party held by Roper's business associate Juan\, 
	inhonour of his daughter's birthday\, soon turns sour when theguest of hon
	our is found dead. Roper digs deeper into Pine'spast and confronts him ove
	r what he's found already\, he thenoffers him a position in his operation\
	, but Corky remainsdeeply suspicious. Pine takes Daniel into town\, giving
	 him anopportunity to share information about Roper's operation withBurr. 
	Burr uses Apostol's guilt to her own advantage and tellsRoper and Langbour
	ne that Corky is the leak.
DTSTART:20160306T210000Z
DTEND:20160306T220000Z
END:VEVENT
END:VCALENDAR
