BEGIN:VCALENDAR
VERSION:2.0
PRODID:-//InvisionCommunity Events 4.7.23//EN
METHOD:PUBLISH
CALSCALE:GREGORIAN
REFRESH-INTERVAL:PT15M
X-PUBLISHED-TTL:PT15M
X-WR-CALNAME:Pogdesign
NAME:Pogdesign
BEGIN:VTIMEZONE
TZID:Europe/London
TZURL:http://tzurl.org/zoneinfo/Europe/London
X-LIC-LOCATION:Europe/London
BEGIN:DAYLIGHT
TZOFFSETFROM:+0000
TZOFFSETTO:+0100
TZNAME:BST
DTSTART:20160327T020000Z
RRULE:FREQ=YEARLY;BYMONTH=3;BYDAY=-1SU
END:DAYLIGHT
BEGIN:STANDARD
TZOFFSETFROM:+0100
TZOFFSETTO:+0000
TZNAME:GMT
DTSTART:20161030T020000Z
RRULE:FREQ=YEARLY;BYMONTH=10;BYDAY=-1SU
END:STANDARD
END:VTIMEZONE
BEGIN:VEVENT
SUMMARY:DC's Legends of Tomorrow 1x8 - Night of the Hawk
DTSTAMP:20160226T071200Z
SEQUENCE:0
UID:48932-3-841ebed20eb198c4569419e99b7bf40a@themidnightzone.com
ORGANIZER;CN="Midnight":midnight@themidnightzone.com
DESCRIPTION:The team tracks Savage to a small town in Oregon during the1
	950s. Upon arrival\, they discover there have been a recentstring of murde
	rs and they suspect Savage is involved.Professor Stein and Sara go underco
	ver at a psychiatrichospital\, where Savage is working as a doctor\, to fi
	nd outhis plan. While there\, Sara meets a nurse named Lindsay andsparks f
	ly. Meanwhile\, Ray and Kendra pretend to be a marriedcouple to gain the n
	eighborhood's trust\, but an interracialcouple in the '50s isn't something
	 that goes unnoticed. Soon\,Savage is at their door.
DTSTART:20160310T200000Z
DTEND:20160310T210000Z
END:VEVENT
END:VCALENDAR
