BEGIN:VCALENDAR
VERSION:2.0
PRODID:-//InvisionCommunity Events 4.7.23//EN
METHOD:PUBLISH
CALSCALE:GREGORIAN
REFRESH-INTERVAL:PT15M
X-PUBLISHED-TTL:PT15M
X-WR-CALNAME:Pogdesign
NAME:Pogdesign
BEGIN:VTIMEZONE
TZID:Europe/London
TZURL:http://tzurl.org/zoneinfo/Europe/London
X-LIC-LOCATION:Europe/London
BEGIN:DAYLIGHT
TZOFFSETFROM:+0000
TZOFFSETTO:+0100
TZNAME:BST
DTSTART:20160327T020000Z
RRULE:FREQ=YEARLY;BYMONTH=3;BYDAY=-1SU
END:DAYLIGHT
BEGIN:STANDARD
TZOFFSETFROM:+0100
TZOFFSETTO:+0000
TZNAME:GMT
DTSTART:20161030T020000Z
RRULE:FREQ=YEARLY;BYMONTH=10;BYDAY=-1SU
END:STANDARD
END:VTIMEZONE
BEGIN:VEVENT
SUMMARY:Counting Cars 5x12 - Rung It Like You Brung It
DTSTAMP:20160309T071200Z
SEQUENCE:0
UID:49685-3-841ebed20eb198c4569419e99b7bf40a@themidnightzone.com
ORGANIZER;CN="Midnight":midnight@themidnightzone.com
DESCRIPTION:Mike gifts all the guys with their own drifter trikes\, unde
	rone condition - they must customize them\, then race them atthe local tra
	ck. Everyone is up to the challenge. Everyoneexcept Kevin that is\, and Mi
	ke has to go to extremes to makesure his trike gets done. When Danny hits 
	the streets and comesupon a property full of funeral cars\, he finds himse
	lf inhearse heaven.
DTSTART:20160322T213000Z
DTEND:20160322T220000Z
END:VEVENT
END:VCALENDAR
