BEGIN:VCALENDAR
VERSION:2.0
PRODID:-//InvisionCommunity Events 4.7.23//EN
METHOD:PUBLISH
CALSCALE:GREGORIAN
REFRESH-INTERVAL:PT15M
X-PUBLISHED-TTL:PT15M
X-WR-CALNAME:At My TV
NAME:At My TV
BEGIN:VTIMEZONE
TZID:Europe/London
TZURL:http://tzurl.org/zoneinfo/Europe/London
X-LIC-LOCATION:Europe/London
BEGIN:DAYLIGHT
TZOFFSETFROM:+0000
TZOFFSETTO:+0100
TZNAME:BST
DTSTART:20160327T020000Z
RRULE:FREQ=YEARLY;BYMONTH=3;BYDAY=-1SU
END:DAYLIGHT
BEGIN:STANDARD
TZOFFSETFROM:+0100
TZOFFSETTO:+0000
TZNAME:GMT
DTSTART:20161030T020000Z
RRULE:FREQ=YEARLY;BYMONTH=10;BYDAY=-1SU
END:STANDARD
END:VTIMEZONE
BEGIN:VEVENT
SUMMARY:American Restoration 7x12 - Taking the Reins
DTSTAMP:20160312T111202Z
SEQUENCE:0
UID:49877-2-841ebed20eb198c4569419e99b7bf40a@themidnightzone.com
ORGANIZER;CN="Midnight":midnight@themidnightzone.com
DESCRIPTION:Steve gets cooking on transforming a rusted-out 1956 Willyst
	ruck into a BBQ kitchen-on-wheels. Meanwhile\, Bodie and hisson turn a min
	i-Divco \"milk truck\" kiddie car from the 1960sinto a souped-up go-kart a
	nd Bob is chomping at the bit torestore a 1952 Bally's coin operated horse
	 ride.
DTSTART:20160326T020000Z
DTEND:20160326T030000Z
END:VEVENT
END:VCALENDAR
