BEGIN:VCALENDAR
VERSION:2.0
PRODID:-//InvisionCommunity Events 4.7.23//EN
METHOD:PUBLISH
CALSCALE:GREGORIAN
REFRESH-INTERVAL:PT15M
X-PUBLISHED-TTL:PT15M
X-WR-CALNAME:Pogdesign
NAME:Pogdesign
BEGIN:VTIMEZONE
TZID:Europe/London
TZURL:http://tzurl.org/zoneinfo/Europe/London
X-LIC-LOCATION:Europe/London
BEGIN:DAYLIGHT
TZOFFSETFROM:+0000
TZOFFSETTO:+0100
TZNAME:BST
DTSTART:20160327T020000Z
RRULE:FREQ=YEARLY;BYMONTH=3;BYDAY=-1SU
END:DAYLIGHT
BEGIN:STANDARD
TZOFFSETFROM:+0100
TZOFFSETTO:+0000
TZNAME:GMT
DTSTART:20161030T020000Z
RRULE:FREQ=YEARLY;BYMONTH=10;BYDAY=-1SU
END:STANDARD
END:VTIMEZONE
BEGIN:VEVENT
SUMMARY:The Voice (US) 10x10 - The Knockouts Premiere
DTSTAMP:20160315T071201Z
SEQUENCE:0
UID:50079-3-841ebed20eb198c4569419e99b7bf40a@themidnightzone.com
ORGANIZER;CN="Midnight":midnight@themidnightzone.com
DESCRIPTION:The knockout rounds begin with coaches Christina Aguilera\,A
	dam Levine\, Blake Shelton\, and Pharrell Williams' strongestteam members 
	remaining from the battle rounds. The artists willbe paired against a team
	mate once more\, but this time theywill each select their own song to perf
	orm individually\, whiletheir direct competitor watches and waits. Music p
	henomenonMiley Cyrus will serve as a key adviser and be on hand to workwit
	h all of the coaches and their teams as they prepare theartists for this c
	hallenge. The coaches alone will choose thewinner from their team to move 
	on to the live shows and theartist not selected will be available to be st
	olen by anothercoach.
DTSTART:20160328T200000Z
DTEND:20160328T213000Z
END:VEVENT
END:VCALENDAR
