BEGIN:VCALENDAR
VERSION:2.0
PRODID:-//InvisionCommunity Events 4.7.23//EN
METHOD:PUBLISH
CALSCALE:GREGORIAN
REFRESH-INTERVAL:PT15M
X-PUBLISHED-TTL:PT15M
X-WR-CALNAME:Pogdesign
NAME:Pogdesign
BEGIN:VTIMEZONE
TZID:Europe/London
TZURL:http://tzurl.org/zoneinfo/Europe/London
X-LIC-LOCATION:Europe/London
BEGIN:DAYLIGHT
TZOFFSETFROM:+0000
TZOFFSETTO:+0100
TZNAME:BST
DTSTART:20160327T020000Z
RRULE:FREQ=YEARLY;BYMONTH=3;BYDAY=-1SU
END:DAYLIGHT
BEGIN:STANDARD
TZOFFSETFROM:+0100
TZOFFSETTO:+0000
TZNAME:GMT
DTSTART:20161030T020000Z
RRULE:FREQ=YEARLY;BYMONTH=10;BYDAY=-1SU
END:STANDARD
END:VTIMEZONE
BEGIN:VEVENT
SUMMARY:Chicago Fire 4x18 - On the Warpath
DTSTAMP:20160323T071201Z
SEQUENCE:0
UID:50544-3-841ebed20eb198c4569419e99b7bf40a@themidnightzone.com
ORGANIZER;CN="Midnight":midnight@themidnightzone.com
DESCRIPTION:While responding to a call involving a victim incapacitatedw
	ith a leg wound\, Sylvie Brett witnesses a murder and isthreatened by the 
	shooter not to go to the police. Unsure ofwhat to do\, she tries to track 
	down Antonio from Chicago PD.Elsewhere\, Firehouse 51 jumps into action wh
	en a fire breaksout inside a restaurant\, trapping several people inside a
	vault. Meanwhile\, with his wedding day to Trudy fastapproaching\, a nervo
	us Mouch starts to get cold feet.
DTSTART:20160405T220000Z
DTEND:20160405T230000Z
END:VEVENT
END:VCALENDAR
