BEGIN:VCALENDAR
VERSION:2.0
PRODID:-//InvisionCommunity Events 4.7.23//EN
METHOD:PUBLISH
CALSCALE:GREGORIAN
REFRESH-INTERVAL:PT15M
X-PUBLISHED-TTL:PT15M
X-WR-CALNAME:At My TV
NAME:At My TV
BEGIN:VTIMEZONE
TZID:Europe/London
TZURL:http://tzurl.org/zoneinfo/Europe/London
X-LIC-LOCATION:Europe/London
BEGIN:DAYLIGHT
TZOFFSETFROM:+0000
TZOFFSETTO:+0100
TZNAME:BST
DTSTART:20160327T020000Z
RRULE:FREQ=YEARLY;BYMONTH=3;BYDAY=-1SU
END:DAYLIGHT
BEGIN:STANDARD
TZOFFSETFROM:+0100
TZOFFSETTO:+0000
TZNAME:GMT
DTSTART:20161030T020000Z
RRULE:FREQ=YEARLY;BYMONTH=10;BYDAY=-1SU
END:STANDARD
END:VTIMEZONE
BEGIN:VEVENT
SUMMARY:Modern Family 7x18 - The Party
DTSTAMP:20160324T041703Z
SEQUENCE:0
UID:50630-2-841ebed20eb198c4569419e99b7bf40a@themidnightzone.com
ORGANIZER;CN="Midnight":midnight@themidnightzone.com
DESCRIPTION:Manny and Luke are in charge of babysitting Lily so that the
	adults can enjoy a day to themselves. Claire and Gloria have alovely trip 
	to the spa planned\; Phil and Mitch nerd out at themovies\; and Jay and Ca
	m go to a sports bar to watch the bigfight. Things start going awry though
	 when the fire alarm goesoff back at the house\, and Claire is convinced t
	he boys aresecretly throwing a party.
DTSTART:20160407T010000Z
DTEND:20160407T013000Z
END:VEVENT
END:VCALENDAR
