BEGIN:VCALENDAR
VERSION:2.0
PRODID:-//InvisionCommunity Events 4.7.23//EN
METHOD:PUBLISH
CALSCALE:GREGORIAN
REFRESH-INTERVAL:PT15M
X-PUBLISHED-TTL:PT15M
X-WR-CALNAME:At My TV
NAME:At My TV
BEGIN:VTIMEZONE
TZID:Europe/London
TZURL:http://tzurl.org/zoneinfo/Europe/London
X-LIC-LOCATION:Europe/London
BEGIN:DAYLIGHT
TZOFFSETFROM:+0000
TZOFFSETTO:+0100
TZNAME:BST
DTSTART:20160327T020000Z
RRULE:FREQ=YEARLY;BYMONTH=3;BYDAY=-1SU
END:DAYLIGHT
BEGIN:STANDARD
TZOFFSETFROM:+0100
TZOFFSETTO:+0000
TZNAME:GMT
DTSTART:20161030T020000Z
RRULE:FREQ=YEARLY;BYMONTH=10;BYDAY=-1SU
END:STANDARD
END:VTIMEZONE
BEGIN:VEVENT
SUMMARY:Chicago Med 1x14 - Hearts
DTSTAMP:20160406T041703Z
SEQUENCE:0
UID:51431-2-841ebed20eb198c4569419e99b7bf40a@themidnightzone.com
ORGANIZER;CN="Midnight":midnight@themidnightzone.com
DESCRIPTION:An erratic patient comes to the emergency department claimin
	gthat his heart is pounding inside his head and takes drasticmeasures to s
	top it\, leaving Dr. Choi and Dr. Charles tofigure out the best course of 
	action. Dr. Manning works on ayoung boy with a broken wrist\, but her susp
	icions abound whenthe facts don't add up\, prompting her to report the sit
	uationto Goodwin and Dr. Charles\, who must make a serious decision.Dr. Rh
	odes impresses Dr. Downey with his skills inside theoperating room\, but t
	he pressure takes a toll. Elsewhere\,Will receives news about the pending 
	lawsuit\, April feels aspark in her social life and Sarah tries to determi
	ne the causeof her recent anxiety.
DTSTART:20160420T010000Z
DTEND:20160420T020000Z
END:VEVENT
END:VCALENDAR
