BEGIN:VCALENDAR
VERSION:2.0
PRODID:-//InvisionCommunity Events 4.7.23//EN
METHOD:PUBLISH
CALSCALE:GREGORIAN
REFRESH-INTERVAL:PT15M
X-PUBLISHED-TTL:PT15M
X-WR-CALNAME:Pogdesign
NAME:Pogdesign
BEGIN:VTIMEZONE
TZID:Europe/London
TZURL:http://tzurl.org/zoneinfo/Europe/London
X-LIC-LOCATION:Europe/London
BEGIN:DAYLIGHT
TZOFFSETFROM:+0000
TZOFFSETTO:+0100
TZNAME:BST
DTSTART:20160327T020000Z
RRULE:FREQ=YEARLY;BYMONTH=3;BYDAY=-1SU
END:DAYLIGHT
BEGIN:STANDARD
TZOFFSETFROM:+0100
TZOFFSETTO:+0000
TZNAME:GMT
DTSTART:20161030T020000Z
RRULE:FREQ=YEARLY;BYMONTH=10;BYDAY=-1SU
END:STANDARD
END:VTIMEZONE
BEGIN:VEVENT
SUMMARY:Bones 11x12 - The Murder of the Meninist
DTSTAMP:20160408T081704Z
SEQUENCE:0
UID:51579-3-841ebed20eb198c4569419e99b7bf40a@themidnightzone.com
ORGANIZER;CN="Midnight":midnight@themidnightzone.com
DESCRIPTION:The team investigates a body found in a car crash\, and ther
	emains belong to a founder of a men's rights organization whomay have been
	 the victim of domestic abuse. As Brennan learnsmore about the tenets of t
	he victim's organization\, whichclaims middle-aged white men are oppressed
	 and feminists areman-haters\, Brennan uncharacteristically loses her cool
	 duringan interrogation and assaults the organization's co-founder.Meanwhi
	le\, Angela and the team struggle to deal with Hodgins'post-wheelchair bit
	terness and Booth is convinced Brennan is ajinx for the Philadelphia Flyer
	s.
DTSTART:20160421T200000Z
DTEND:20160421T210000Z
END:VEVENT
END:VCALENDAR
