BEGIN:VCALENDAR
VERSION:2.0
PRODID:-//InvisionCommunity Events 4.7.23//EN
METHOD:PUBLISH
CALSCALE:GREGORIAN
REFRESH-INTERVAL:PT15M
X-PUBLISHED-TTL:PT15M
X-WR-CALNAME:At My TV
NAME:At My TV
BEGIN:VTIMEZONE
TZID:Europe/London
TZURL:http://tzurl.org/zoneinfo/Europe/London
X-LIC-LOCATION:Europe/London
BEGIN:DAYLIGHT
TZOFFSETFROM:+0000
TZOFFSETTO:+0100
TZNAME:BST
DTSTART:20160327T020000Z
RRULE:FREQ=YEARLY;BYMONTH=3;BYDAY=-1SU
END:DAYLIGHT
BEGIN:STANDARD
TZOFFSETFROM:+0100
TZOFFSETTO:+0000
TZNAME:GMT
DTSTART:20161030T020000Z
RRULE:FREQ=YEARLY;BYMONTH=10;BYDAY=-1SU
END:STANDARD
END:VTIMEZONE
BEGIN:VEVENT
SUMMARY:Casualty 30x32 - A Clear Conscience
DTSTAMP:20160409T041703Z
SEQUENCE:0
UID:51610-2-841ebed20eb198c4569419e99b7bf40a@themidnightzone.com
ORGANIZER;CN="Midnight":midnight@themidnightzone.com
DESCRIPTION:Big Mac's secret is getting on top of him and he's not the o
	nlyone who's reached their limit today.Painkillers are reportedmissing and
	 suspected stolen. Big Mac's addiction is startingto affect his health. Me
	rcedes threatens him to steal moredrugs\, but Big Mac eventually has to co
	me clean to Noel andadmit he has a problem. Noel is supportive and encoura
	ges himto go to an NA meeting\, but will Big Mac bottle itlast-minute?Rita
	 suspects Mark's stalking her when Charlieinforms her that a number of com
	plaints have been made againsther. When she looks into it\, the patients d
	on't exist. Shefeels safe with Iain\, but when she goes home she discovers
	 herbedroom has been trashed\, and she's terrified.Jack has the dayfrom he
	ll and decides to leave to pursue his dreams in thetravel industry.
DTSTART:20160423T191500Z
DTEND:20160423T200500Z
END:VEVENT
END:VCALENDAR
