BEGIN:VCALENDAR
VERSION:2.0
PRODID:-//InvisionCommunity Events 4.7.23//EN
METHOD:PUBLISH
CALSCALE:GREGORIAN
REFRESH-INTERVAL:PT15M
X-PUBLISHED-TTL:PT15M
X-WR-CALNAME:At My TV
NAME:At My TV
BEGIN:VTIMEZONE
TZID:Europe/London
TZURL:http://tzurl.org/zoneinfo/Europe/London
X-LIC-LOCATION:Europe/London
BEGIN:DAYLIGHT
TZOFFSETFROM:+0000
TZOFFSETTO:+0100
TZNAME:BST
DTSTART:20240331T020000Z
RRULE:FREQ=YEARLY;BYMONTH=3;BYDAY=-1SU
END:DAYLIGHT
BEGIN:STANDARD
TZOFFSETFROM:+0100
TZOFFSETTO:+0000
TZNAME:GMT
DTSTART:20241027T020000Z
RRULE:FREQ=YEARLY;BYMONTH=10;BYDAY=-1SU
END:STANDARD
END:VTIMEZONE
BEGIN:VEVENT
SUMMARY:20/20 255x19 - A Deadly Scream
DTSTAMP:20160416T055501Z
SEQUENCE:0
UID:52026-2-841ebed20eb198c4569419e99b7bf40a@themidnightzone.com
ORGANIZER;CN="Midnight":midnight@themidnightzone.com
DESCRIPTION:In 2011\, a witness last saw 20-year-old nursing student Hol
	lyBobo walking into the Tennessee woods with an unknown man.Three years la
	ter\, authorities found her remains miles fromher home. After the largest 
	and most expensive investigation inthe Tennessee Bureau of Investigation's
	 (TBI) history\,authorities ultimately charged Zach Adams\, Dylan Adams an
	dJason Autry with the kidnapping and murder of Holly. Althoughthere was li
	ttle physical evidence and no DNA linking any ofthe men to the crime\, a j
	ury convicted Zach at trial — basedmainly on Jason's testimony\, in whic
	h he stated that he hadbeen present when Zach shot and killed Holly. Dylan
	 Adams andJason Autry both eventually pleaded guilty to lesser charges.Ear
	lier this year\, Jason recanted his testimony\, saying hemade it all up\, 
	and while prosecutors stand by theconviction\, lawyers for Zach are now as
	king a judge to granthim a new trial.
DTSTART:20240601T010100Z
DTEND:20240601T030100Z
END:VEVENT
END:VCALENDAR
