BEGIN:VCALENDAR
VERSION:2.0
PRODID:-//InvisionCommunity Events 4.7.23//EN
METHOD:PUBLISH
CALSCALE:GREGORIAN
REFRESH-INTERVAL:PT15M
X-PUBLISHED-TTL:PT15M
X-WR-CALNAME:Pogdesign
NAME:Pogdesign
BEGIN:VTIMEZONE
TZID:Europe/London
TZURL:http://tzurl.org/zoneinfo/Europe/London
X-LIC-LOCATION:Europe/London
BEGIN:DAYLIGHT
TZOFFSETFROM:+0000
TZOFFSETTO:+0100
TZNAME:BST
DTSTART:20160327T020000Z
RRULE:FREQ=YEARLY;BYMONTH=3;BYDAY=-1SU
END:DAYLIGHT
BEGIN:STANDARD
TZOFFSETFROM:+0100
TZOFFSETTO:+0000
TZNAME:GMT
DTSTART:20161030T020000Z
RRULE:FREQ=YEARLY;BYMONTH=10;BYDAY=-1SU
END:STANDARD
END:VTIMEZONE
BEGIN:VEVENT
SUMMARY:The Durrells 1x4 - Series 1\, Episode 4
DTSTAMP:20160417T095504Z
SEQUENCE:0
UID:52113-3-841ebed20eb198c4569419e99b7bf40a@themidnightzone.com
ORGANIZER;CN="Midnight":midnight@themidnightzone.com
DESCRIPTION:Leslie falls in with a bad crowd and ends up being falselyac
	cused of armed robbery\, prompting Louisa to take desperatemeasures to sav
	e him. Margo takes a shine to a gardener at theVilla Mavrodaki\, Captain C
	reech returns\, and the familyrealises the extent of Gerry's passion for a
	nimals when heturns his bedroom into a centre for scientific learning. Gue
	ststarring Leslie Caron.
DTSTART:20160424T150000Z
DTEND:20160424T160000Z
END:VEVENT
END:VCALENDAR
