BEGIN:VCALENDAR
VERSION:2.0
PRODID:-//InvisionCommunity Events 4.7.23//EN
METHOD:PUBLISH
CALSCALE:GREGORIAN
REFRESH-INTERVAL:PT15M
X-PUBLISHED-TTL:PT15M
X-WR-CALNAME:At My TV
NAME:At My TV
BEGIN:VTIMEZONE
TZID:Europe/London
TZURL:http://tzurl.org/zoneinfo/Europe/London
X-LIC-LOCATION:Europe/London
BEGIN:DAYLIGHT
TZOFFSETFROM:+0000
TZOFFSETTO:+0100
TZNAME:BST
DTSTART:20160327T020000Z
RRULE:FREQ=YEARLY;BYMONTH=3;BYDAY=-1SU
END:DAYLIGHT
BEGIN:STANDARD
TZOFFSETFROM:+0100
TZOFFSETTO:+0000
TZNAME:GMT
DTSTART:20161030T020000Z
RRULE:FREQ=YEARLY;BYMONTH=10;BYDAY=-1SU
END:STANDARD
END:VTIMEZONE
BEGIN:VEVENT
SUMMARY:Once Upon a Time 5x20 - Firebird
DTSTAMP:20160418T055502Z
SEQUENCE:0
UID:52174-2-841ebed20eb198c4569419e99b7bf40a@themidnightzone.com
ORGANIZER;CN="Midnight":midnight@themidnightzone.com
DESCRIPTION:Hades asks the heroes to help him make sure that Gold and Pa
	ngo through with their end of the deal so that he can get Zelenaback. Once
	 they do\, the Underworld begins to fall apart andHenry offers to help the
	 other residents find their unfinishedbusiness. Meanwhile\, Cruella and th
	e Blind Witch take steps tomake sure the heroes don't escape. In the past\
	, Emma meets asympathetic bounty hunter who helps her find out about thepa
	rents who abandoned her.
DTSTART:20160502T000000Z
DTEND:20160502T010000Z
END:VEVENT
END:VCALENDAR
