BEGIN:VCALENDAR
VERSION:2.0
PRODID:-//InvisionCommunity Events 4.7.23//EN
METHOD:PUBLISH
CALSCALE:GREGORIAN
REFRESH-INTERVAL:PT15M
X-PUBLISHED-TTL:PT15M
X-WR-CALNAME:At My TV
NAME:At My TV
BEGIN:VTIMEZONE
TZID:Europe/London
TZURL:http://tzurl.org/zoneinfo/Europe/London
X-LIC-LOCATION:Europe/London
BEGIN:DAYLIGHT
TZOFFSETFROM:+0000
TZOFFSETTO:+0100
TZNAME:BST
DTSTART:20160327T020000Z
RRULE:FREQ=YEARLY;BYMONTH=3;BYDAY=-1SU
END:DAYLIGHT
BEGIN:STANDARD
TZOFFSETFROM:+0100
TZOFFSETTO:+0000
TZNAME:GMT
DTSTART:20161030T020000Z
RRULE:FREQ=YEARLY;BYMONTH=10;BYDAY=-1SU
END:STANDARD
END:VTIMEZONE
BEGIN:VEVENT
SUMMARY:The Grinder 1x21 - Divergence
DTSTAMP:20160420T055502Z
SEQUENCE:0
UID:52273-2-841ebed20eb198c4569419e99b7bf40a@themidnightzone.com
ORGANIZER;CN="Midnight":midnight@themidnightzone.com
DESCRIPTION:After finding out Dean Sr. is guilty\, Stew thinks they shou
	ldsettle the case. Dean\, of course\, believes they should try towin\, and
	 wants to use one of his old \"Grinder\" tricks\, bythrowing himself into 
	an unrelated sub plot that will lead himto what he needs to solve the case
	. Meanwhile\, Stew isconcerned that he is now \"infected\" by \"The Grinde
	r\".
DTSTART:20160504T013000Z
DTEND:20160504T020000Z
END:VEVENT
END:VCALENDAR
